BEGIN:VCALENDAR
VERSION:2.0
PRODID:-//Festivini - ECPv6.15.20//NONSGML v1.0//EN
CALSCALE:GREGORIAN
METHOD:PUBLISH
X-WR-CALNAME:Festivini
X-ORIGINAL-URL:https://festivini.com
X-WR-CALDESC:Évènements pour Festivini
REFRESH-INTERVAL;VALUE=DURATION:PT1H
X-Robots-Tag:noindex
X-PUBLISHED-TTL:PT1H
BEGIN:VTIMEZONE
TZID:Europe/Paris
BEGIN:DAYLIGHT
TZOFFSETFROM:+0100
TZOFFSETTO:+0200
TZNAME:CEST
DTSTART:20240331T010000
END:DAYLIGHT
BEGIN:STANDARD
TZOFFSETFROM:+0200
TZOFFSETTO:+0100
TZNAME:CET
DTSTART:20241027T010000
END:STANDARD
BEGIN:DAYLIGHT
TZOFFSETFROM:+0100
TZOFFSETTO:+0200
TZNAME:CEST
DTSTART:20250330T010000
END:DAYLIGHT
BEGIN:STANDARD
TZOFFSETFROM:+0200
TZOFFSETTO:+0100
TZNAME:CET
DTSTART:20251026T010000
END:STANDARD
BEGIN:DAYLIGHT
TZOFFSETFROM:+0100
TZOFFSETTO:+0200
TZNAME:CEST
DTSTART:20260329T010000
END:DAYLIGHT
BEGIN:STANDARD
TZOFFSETFROM:+0200
TZOFFSETTO:+0100
TZNAME:CET
DTSTART:20261025T010000
END:STANDARD
END:VTIMEZONE
BEGIN:VEVENT
DTSTART;VALUE=DATE:20250622
DTEND;VALUE=DATE:20250624
DTSTAMP:20260420T041353
CREATED:20250403T124735Z
LAST-MODIFIED:20250403T124735Z
UID:10000189-1750557600-1750643999@festivini.com
SUMMARY:Grand chapitre de la Fleur de Vigne
DESCRIPTION:La Commanderie du Taste de Saumur vous invite à une balade dans le vignoble\, suivie d’un déjeuner champêtre accompagné des vins de Saumur. \n\n\n\n\n\n\n\n\n\n\n\nProgramme : \n9h30 : Marche ludique 5kms dans les vignes commentée par nos viticulteurs et dégustation à mi-parcours \n12h : Apéritif offert \n12h45 : Intronisations par la commanderie \n13h30 : Déjeuner champêtre (nombre de places limitées au repas)
URL:https://festivini.com/evenement/grand-chapitre-de-la-fleur-de-vigne/
LOCATION:Complexe sportif de Turquant
ATTACH;FMTTYPE=application/pdf:https://festivini.com/wp-content/uploads/2025/04/Grand-chapitre-de-la-fleur-de-vigne-Commanderie-Taste-Saumur.pdf
END:VEVENT
END:VCALENDAR