BEGIN:VCALENDAR
VERSION:2.0
PRODID:-//Festivini - ECPv6.15.20//NONSGML v1.0//EN
CALSCALE:GREGORIAN
METHOD:PUBLISH
X-WR-CALNAME:Festivini
X-ORIGINAL-URL:https://festivini.com
X-WR-CALDESC:Évènements pour Festivini
REFRESH-INTERVAL;VALUE=DURATION:PT1H
X-Robots-Tag:noindex
X-PUBLISHED-TTL:PT1H
BEGIN:VTIMEZONE
TZID:Europe/Paris
BEGIN:DAYLIGHT
TZOFFSETFROM:+0100
TZOFFSETTO:+0200
TZNAME:CEST
DTSTART:20230326T010000
END:DAYLIGHT
BEGIN:STANDARD
TZOFFSETFROM:+0200
TZOFFSETTO:+0100
TZNAME:CET
DTSTART:20231029T010000
END:STANDARD
BEGIN:DAYLIGHT
TZOFFSETFROM:+0100
TZOFFSETTO:+0200
TZNAME:CEST
DTSTART:20240331T010000
END:DAYLIGHT
BEGIN:STANDARD
TZOFFSETFROM:+0200
TZOFFSETTO:+0100
TZNAME:CET
DTSTART:20241027T010000
END:STANDARD
BEGIN:DAYLIGHT
TZOFFSETFROM:+0100
TZOFFSETTO:+0200
TZNAME:CEST
DTSTART:20250330T010000
END:DAYLIGHT
BEGIN:STANDARD
TZOFFSETFROM:+0200
TZOFFSETTO:+0100
TZNAME:CET
DTSTART:20251026T010000
END:STANDARD
BEGIN:DAYLIGHT
TZOFFSETFROM:+0100
TZOFFSETTO:+0200
TZNAME:CEST
DTSTART:20260329T010000
END:DAYLIGHT
BEGIN:STANDARD
TZOFFSETFROM:+0200
TZOFFSETTO:+0100
TZNAME:CET
DTSTART:20261025T010000
END:STANDARD
END:VTIMEZONE
BEGIN:VEVENT
DTSTART;TZID=Europe/Paris:20250614T190000
DTEND;TZID=Europe/Paris:20250615T020000
DTSTAMP:20260419T231955
CREATED:20250408T072817Z
LAST-MODIFIED:20250408T072856Z
UID:10000197-1749927600-1749952800@festivini.com
SUMMARY:Villeneuve entre Cowpin
DESCRIPTION:Viens passer un agréable moment le Samedi 14 Juin au Domaine de Villeneuve. \nAu programme: \n🍷du vin \n🍽️🥩🥔un bon repas \n🎸🥁🎙️de la musique \nAh oui et ton verre d’apéritif est offert 🥂
URL:https://festivini.com/evenement/villeneuve-entre-cowpins/
LOCATION:Domaine de Villeneuve\, Domaine de Villeneuve Lieu-dit Villeneuve\, Le Frecheau\, LYS HAUT LAYON\, 49310\, France
ATTACH;FMTTYPE=image/jpeg:https://festivini.com/wp-content/uploads/2025/04/AFF_A4-scaled.jpg
END:VEVENT
BEGIN:VEVENT
DTSTART;TZID=Europe/Paris:20240608T190000
DTEND;TZID=Europe/Paris:20240609T020000
DTSTAMP:20260419T231955
CREATED:20240529T081603Z
LAST-MODIFIED:20240610T101834Z
UID:10000088-1717873200-1717898400@festivini.com
SUMMARY:Villeneuve Entre Cowpin- Domaine de VILLENEUVE
DESCRIPTION:3ème édition\nVenez passer un agréable moment le Samedi 8 Juin 2024 au Domaine de Villeneuve. Au programme : Vin\, Repas\, Musique\, Verre d’apéritif offert. \nAttention le nombre de places est limité. N’hésitez pas à nous contacter en écrivant à eugenie@domainedevilleneuve.fr ou au 06.33.88.80.09 Pour cette soirée\, une participation de 25€ par adulte et 12€ par enfant est demandée. Nous avons hâte de vous retrouver lors de cette belle soirée Entre Cowpin(s). Infos & Billetterie www.domaindevilleneuve.fr \n\nSamedi 8 juin\nHoraires : de 19h00 à 2h00\nTarifs : 25€ TTC place adulte / 12€ TTC place enfant\nAppelez nous\nContactez nous par mail\nRéservez ici !\n\n 
URL:https://festivini.com/evenement/domaine-de-villeneuve-entre-cowpin/
LOCATION:Domaine de Villeneuve\, Domaine de Villeneuve Lieu-dit Villeneuve\, Le Frecheau\, LYS HAUT LAYON\, 49310\, France
CATEGORIES:OFF des partenaires Festivini
ATTACH;FMTTYPE=image/jpeg:https://festivini.com/wp-content/uploads/2024/05/evenement-festivini-partenaire-villeneuve.jpg
END:VEVENT
END:VCALENDAR